BEGIN:VCALENDAR
VERSION:2.0
PRODID:-//ChamberMaster//Event Calendar 2.0//EN
METHOD:PUBLISH
X-PUBLISHED-TTL:P1H
REFRESH-INTERVAL:P1H
CALSCALE:GREGORIAN
BEGIN:VTIMEZONE
TZID:America/Phoenix
BEGIN:DAYLIGHT
DTSTART:20070311T020000
TZOFFSETFROM:-0700
TZOFFSETTO:-0700
TZNAME:(UTC-07:00) Arizona
END:DAYLIGHT
BEGIN:STANDARD
DTSTART:20071104T020000
TZOFFSETFROM:-0700
TZOFFSETTO:-0700
TZNAME:(UTC-07:00) Arizona
END:STANDARD
END:VTIMEZONE
BEGIN:VEVENT
DTSTART;TZID=America/Phoenix:20260430T160000
DTEND;TZID=America/Phoenix:20260430T173000
X-MICROSOFT-CDO-ALLDAYEVENT:FALSE
SUMMARY:NEXT Leadership Forum - April 2026
DESCRIPTION:Join us on April 30\, as three East Valley leaders share actionable insights and best practices for leading into the future at PHX East Valley NEXT - Nurturing Exceptional Talent. You'll add new chapters into your leadership playbook\, including strategies for advancing your career and making the region an event better place to live and work.  \n\nThis session features PHX East Valley Partnership President and CEO\, John Lewis as the keynote speaker.  He will be joined by Delaney Russel\, government affairs advisor for Southwest Gas\, and Roman Saldutti\, senior vice president at PNC Bank.
X-ALT-DESC;FMTTYPE=text/html:Join us on April 30\, as three East Valley leaders share actionable insights and best practices for leading into the future at PHX East Valley NEXT - Nurturing Exceptional Talent. You'll add new chapters into your leadership playbook\, including strategies for advancing your career and making the region an event better place to live and work.  \n\nThis session features PHX East Valley Partnership President and CEO\, John Lewis as the keynote speaker.  He will be joined by Delaney Russel\, government affairs advisor for Southwest Gas\, and Roman Saldutti\, senior vice president at PNC Bank.
LOCATION:1833 W. Southern Avenue Elsner Library\, Room 145 Mesa AZ 85202-4868
UID:e.1719.1438180
SEQUENCE:3
DTSTAMP:20260421T042304Z
URL:https://members.phxeastvalley.com/events/Details/next-leadership-forum-april-2026-1702190?sourceTypeId=Hub
END:VEVENT
END:VCALENDAR
